BEGIN:VCALENDAR
VERSION:2.0
PRODID:-//Brasserie Illegaal - ECPv6.15.15//NONSGML v1.0//EN
CALSCALE:GREGORIAN
METHOD:PUBLISH
X-WR-CALNAME:Brasserie Illegaal
X-ORIGINAL-URL:https://brasserie-illegaal.com
X-WR-CALDESC:Events for Brasserie Illegaal
REFRESH-INTERVAL;VALUE=DURATION:PT1H
X-Robots-Tag:noindex
X-PUBLISHED-TTL:PT1H
BEGIN:VTIMEZONE
TZID:Europe/Brussels
BEGIN:DAYLIGHT
TZOFFSETFROM:+0100
TZOFFSETTO:+0200
TZNAME:CEST
DTSTART:20230326T010000
END:DAYLIGHT
BEGIN:STANDARD
TZOFFSETFROM:+0200
TZOFFSETTO:+0100
TZNAME:CET
DTSTART:20231029T010000
END:STANDARD
BEGIN:DAYLIGHT
TZOFFSETFROM:+0100
TZOFFSETTO:+0200
TZNAME:CEST
DTSTART:20240331T010000
END:DAYLIGHT
BEGIN:STANDARD
TZOFFSETFROM:+0200
TZOFFSETTO:+0100
TZNAME:CET
DTSTART:20241027T010000
END:STANDARD
BEGIN:DAYLIGHT
TZOFFSETFROM:+0100
TZOFFSETTO:+0200
TZNAME:CEST
DTSTART:20250330T010000
END:DAYLIGHT
BEGIN:STANDARD
TZOFFSETFROM:+0200
TZOFFSETTO:+0100
TZNAME:CET
DTSTART:20251026T010000
END:STANDARD
END:VTIMEZONE
BEGIN:VEVENT
DTSTART;TZID=Europe/Brussels:20240120T220000
DTEND;TZID=Europe/Brussels:20240121T050000
DTSTAMP:20260424T112654
CREATED:20240115T135701Z
LAST-MODIFIED:20240115T135701Z
UID:10170-1705788000-1705813200@brasserie-illegaal.com
SUMMARY:GLOBAAL ILLEGAAL : Rebel Up x 54Kolaktiv x 54 Sound
DESCRIPTION:Globaal Illegaal: Rebel Up x 54Kolaktiv x 54 Sound\nRebel Up and 54K & 54 Sound join forces for this 1st big party of the year! from roots to bass sounds and the 54 Soundsystem installed as a wall of heavy sound.\nLINEUP:\n54 Sound DJ’s\nRrita Jashari\nLua Preta\nRebel Up SebCat\nPhonetics\nLua Preta (AN/PL)\nLua Preta is vocalist / MC Ms. Gia of Angolan descent and Polish DJ and producer Mentalcut. Together they bring a frenetic mixture of futuristic electronic bass music and African genres such as kuduro\, gqom\, afrohouse\, amapiano\, bouyon and beyond.\nhttps://soundcloud.com/luapreta\nhttps://luapreta.bandcamp.com/\nMore info follows….\nDoors 22:00\nPAF 5€ (Cash!)\n  /  :\n*̂  ̀\n*   /  /\n*  = \nDesign by Maia Matches\nhttps://www.instagram.com/mmmmatches/
URL:https://brasserie-illegaal.com/event/globaal-illegaal-rebel-up-x-54kolaktiv-x-54-sound/
LOCATION:Bollinx\, Rue Bollinckx\, 300\, Forest - Brussel\, 1090\, Belgium
CATEGORIES:Partners
ATTACH;FMTTYPE=image/jpeg:https://brasserie-illegaal.com/wp-content/uploads/2024/01/417465982_980912926839226_715144031667722988_n.jpg
END:VEVENT
BEGIN:VEVENT
DTSTART;TZID=Europe/Brussels:20240127T220000
DTEND;TZID=Europe/Brussels:20240128T050000
DTSTAMP:20260424T112654
CREATED:20240122T083452Z
LAST-MODIFIED:20240122T083524Z
UID:10188-1706392800-1706418000@brasserie-illegaal.com
SUMMARY:Vostock Takeover Illegaal
DESCRIPTION:<< Vostock >>\n– instagram.com/vostock__\n– facebook.com/groups/vostockouter \n\nIn 24\, we’ll continue to explore spaces around Brussels\, known or unknown\, intimate or big\, in closed spheres or public.\nFirst up\, a takeover that has been long in the making: Brasserie Illegaal.\n\n➤ Practicals\n— 10 PM to 6 AM\n— 21+ event\n\n➤ Line Up\n— Keyser\n— Vitaline (FR)\n— Edouard Hauki\n— Jessen\n\n➤ Zero tolerance policy for any kind of harassment or discrimination.\n— Open and inclusive environment\n— Know your limits\, take responsibility\, and watch over friends and people around\n— Find crew wearing glowing red bands for discreet help. If you see something\, say something\n\n➤ Financial challenges should never prevent participation in our events.\nIf you’re in a tough spot\, contact us at vostock.bxl@gmail.com\, and we’ll find a solution.
URL:https://brasserie-illegaal.com/event/vostock-takeover-illegaal/
LOCATION:Bollinx\, Rue Bollinckx\, 300\, Forest - Brussel\, 1090\, Belgium
CATEGORIES:Partners
ATTACH;FMTTYPE=image/jpeg:https://brasserie-illegaal.com/wp-content/uploads/2024/01/419743494_339881149048399_4672042942091140633_n.jpg
END:VEVENT
END:VCALENDAR