BEGIN:VCALENDAR
VERSION:2.0
PRODID:-//Brasserie Illegaal - ECPv6.15.15//NONSGML v1.0//EN
CALSCALE:GREGORIAN
METHOD:PUBLISH
X-WR-CALNAME:Brasserie Illegaal
X-ORIGINAL-URL:https://brasserie-illegaal.com
X-WR-CALDESC:Events for Brasserie Illegaal
REFRESH-INTERVAL;VALUE=DURATION:PT1H
X-Robots-Tag:noindex
X-PUBLISHED-TTL:PT1H
BEGIN:VTIMEZONE
TZID:Europe/Brussels
BEGIN:DAYLIGHT
TZOFFSETFROM:+0100
TZOFFSETTO:+0200
TZNAME:CEST
DTSTART:20250330T010000
END:DAYLIGHT
BEGIN:STANDARD
TZOFFSETFROM:+0200
TZOFFSETTO:+0100
TZNAME:CET
DTSTART:20251026T010000
END:STANDARD
BEGIN:DAYLIGHT
TZOFFSETFROM:+0100
TZOFFSETTO:+0200
TZNAME:CEST
DTSTART:20260329T010000
END:DAYLIGHT
BEGIN:STANDARD
TZOFFSETFROM:+0200
TZOFFSETTO:+0100
TZNAME:CET
DTSTART:20261025T010000
END:STANDARD
BEGIN:DAYLIGHT
TZOFFSETFROM:+0100
TZOFFSETTO:+0200
TZNAME:CEST
DTSTART:20270328T010000
END:DAYLIGHT
BEGIN:STANDARD
TZOFFSETFROM:+0200
TZOFFSETTO:+0100
TZNAME:CET
DTSTART:20271031T010000
END:STANDARD
END:VTIMEZONE
BEGIN:VEVENT
DTSTART;TZID=Europe/Brussels:20260403T210000
DTEND;TZID=Europe/Brussels:20260404T050000
DTSTAMP:20260423T194940
CREATED:20260224T145113Z
LAST-MODIFIED:20260224T145113Z
UID:12139-1775250000-1775278800@brasserie-illegaal.com
SUMMARY:POINTZERO REC invite MARA / SONIC TICKLE / MULTI TUL / KOMAKLUB & more + After Partyy
DESCRIPTION:Pointzero Rec is back at Illegaal on the Friday 3rd April 2026 with a massive exclusive & international Lineup !!What should you expect ? Dark Prog\, Deep Hypnotic Techno\, Psygressive\, Psytechno\, Psytrance\, Techno\, Forest\n_______________________________________\n●●● LINEUP ●●●\nMARA (IT) – Intermind Rec – (2h – Dark Prog & Forest Prog)\nSONIC TICKLE & MULTI TUL (DE) – Zenon Rec & Pointzero Rec (2h – Psytech to Psygressive)\nKOMAKLUB (BE) – Pointzero Rec – (Deep Dark Psytechno)\nCHULLACHAQUI (FR) – Shankar Tribe – (Dark Prog & Forest Groovy)\nBLACK LAMB (BE) – Warm up !! (Deep Hybrid Techno)\n_______________________________________\nSOUND SYSTEM by Polymorph (Funktion One)MAPPING + HOLOGRAPHIC SHOW all night long by Gamma DeltaSCENO DECORATION by Ambroise Hébert\n_______________________________________\n●●● PRESALE ●●●\nBUY YOUR PLACE HERE\nAct early and secure your place and enjoy our advance access pricing\nPrices : Buy early\, Buy cheap\, 10€ > 12\,5€ > 15€At door : 15€ (100 Limited Tickets !!) CASH or Payconiq available\nCards & Cash are accepted at the bar !Online ticketing is available until 2h30am\, unless it’s sold out.\n_______________________________________\n●●● Location ●●●Brasserie Illegaal / Rue Bollinckx 300 / 1190 – Brussels\nHow to get there ?Bicycle parking space�Forest-Midi station 4min walk !�Bus 73 – INTERNATIONALE station�Bus 78 – BOLLINCKX station�Tram 82 & 97 – MAX WALLER stationTAXI collecto will be there at 5am (end)\n_______________________________________\n●●● TIMETABLE ●●●\n21:00 – 22:30 : Black Lamb22h30 – 23h45 : Komaklub23h45 – 01h45 : Multi Tul & Sonic Tickle (2h)01h45 – 03:45 : Mara (2h)03h45 – 05:00 : Chullachaqui\n+after party Ruisboat (5min by car from Illegaal)\n_______________________________________\nWe have zero tolerance for any form of violence\, racism\, or sexism. If you witness or experience any such behavior\, please report it immediately to our staff or security. This is a Safe Zone!Free access to restrooms and water /// Enjoy our unique local beer by Illegaal.Good Vibes ONLY! Everyone is welcome!\n_______________________________________\nArtwork by JanJan (Geometek)\n_______________________________________\n\n/!\ ILLEGAAL est un lieu de réjouissances\, de partage et de rencontre ouvert à tous·tes. Aucun comportement oppressant\, violent ou discriminant n’y est toléré. La Love Team\, formée par Plan Sacha & Quality Nights\, est là pour toi en cas de besoin. Plus d’infos sur notre charte ici.   \nLieu labellisé par Quality Nights
URL:https://brasserie-illegaal.com/event/pointzero-rec-invite-mara-sonic-tickle-multi-tul-komaklub-more-after-partyy/
LOCATION:Bollinx\, Rue Bollinckx\, 300\, Forest - Brussel\, 1090\, Belgium
CATEGORIES:Partners
ATTACH;FMTTYPE=image/jpeg:https://brasserie-illegaal.com/wp-content/uploads/2026/02/641221429_1384153150179463_362526673818417769_n.jpg
END:VEVENT
BEGIN:VEVENT
DTSTART;TZID=Europe/Brussels:20260404T200000
DTEND;TZID=Europe/Brussels:20260405T050000
DTSTAMP:20260423T194940
CREATED:20260317T150749Z
LAST-MODIFIED:20260317T150841Z
UID:12151-1775332800-1775365200@brasserie-illegaal.com
SUMMARY:ILLEGAAL DJIPSIES #12
DESCRIPTION:4.4.2026 / de 20h à 5h\nBrasserie Illegaal\nRue Bollinckx 300\n1190 Forest\n°•○•°°•○•°°•○•°°•○•°°•○•°°•○•°°•○•°°•○•°°•○•°°•○•°\nEst-ce qu’il y a vraiment besoin de mots pour vous parler de la prochaine enjaillade des Tropical Djipsies?\n°•○•°°•○•°°•○•°°•○•°°•○•°°•○•°°•○•°°•○•°°•○•°°•○•°\nLe 4 dans toute sa puissance sera le régent de cette IDJ12. Les énergies du printemps qu’on va célébrer seront explosives et enragées parce que l’absurde violence qui régit notre époque demande ça: furieuse danse collective!!!\n\n\nEvidemment\, DiDi\, RaQL\, Chel et 3afifa seront toutes les quatre là en plus de trois artistes de BX et d’ailleurs qui vont proposer des performances de SON et de MOUVEMENT.\n\n\n°•○•°°•○•°°•○•°°•○•°°•○•°°•○•°°•○•°°•○•°°•○•°°•○•°\nHYSOPE (BX)\n\n\nVous l’avez peut-être vu.e opérer avec Moodshifters récemment\, HYSOPE ramène ses rythmes percussifs et breakés\, oscillant entre moods colorés et atmosphères plus dark. Iel porte l’energie de SIZZLEPROOF\, collectif qu’iel a cofondé pour mettre en lumière des artistes racisé.x.es de la scène électronique.\n\n\n°•○•°°•○•°°•○•°°•○•°°•○•°°•○•°°•○•°°•○•°°•○•°°•○•°\nSABRIA B. (MARSEILLE)\n\n\nSABRIA B vient confirmer la BX-Marseille connection. Elle propose une vision futuriste et profondèment percussive du son\, façonnée par ses racines afrodiasporiques. Attendez-vous à un set magnétique navigant entre influences électro et héritages culturels.\n\n\n°•○•°°•○•°°•○•°°•○•°°•○•°°•○•°°•○•°°•○•°°•○•°°•○•°\n ROSY – JEZEBEL COLLECTIVE (BX)\nPerformance / Pole Dance\n\n\nLaisse-toi emporter par la rage et les chaos\, libère ton esprit et plonge dans l’univers de Røsy del C aka @de_plastilina_\, sensualité\, animalité\, fantasy and others delusions garantizados \n\n\n°•○•°°•○•°°•○•°°•○•°°•○•°°•○°•○•°°•○•°°•○•°°•○•°°•○•°°•\n VENEZ TOT\nOn lancera les festivités à partir de 20h avec les briwates et autres délices de l’équipe Rockin’Squat ainsi que d’autres surprises \n\n\n ONLY CASH\nComme d’hab\, ramenez du cash parce qu’on opère en dehors du système bancaire (et sans subventions!).\nSeul le bar accepte les cartes \n\n\nPour soutenir au max les artistes et l’orga:\n\n\n5€ < 21h < 10 € < 23h < 15 €\n\n\nAffiche par la douce @sarahmargnetti\n\n\n____________________________________\n\n/!\ ILLEGAAL est un lieu de réjouissances\, de partage et de rencontre ouvert à tous·tes. Aucun comportement oppressant\, violent ou discriminant n’y est toléré. La Love Team\, formée par Plan Sacha & Quality Nights\, est là pour toi en cas de besoin. Plus d’infos sur notre charte ici.   \nLieu labellisé par Quality Nights
URL:https://brasserie-illegaal.com/event/illegaal-djipsies-12/
LOCATION:Bollinx\, Rue Bollinckx\, 300\, Forest - Brussel\, 1090\, Belgium
CATEGORIES:Partners
ATTACH;FMTTYPE=image/jpeg:https://brasserie-illegaal.com/wp-content/uploads/2026/03/650622903_18034220930791751_1503747952256204573_n.jpg
END:VEVENT
BEGIN:VEVENT
DTSTART;TZID=Europe/Brussels:20260410T193000
DTEND;TZID=Europe/Brussels:20260411T010000
DTSTAMP:20260423T194940
CREATED:20260319T105540Z
LAST-MODIFIED:20260319T105540Z
UID:12157-1775849400-1775869200@brasserie-illegaal.com
SUMMARY:Où est la Sainte Dramaturgie ? // Spectacle Cirque-Théatre
DESCRIPTION:Sens du Sommeil vous présente un work in progress où le cirque contemporain et le théâtre physique se rencontrent sur scène.\nUn voyage entre rêve et physicalité\, entre fragilité et risque.\nUne dramaturgie vivante qui questionne le désir\, la mémoire… et le sens de l’existence. \n✨ Cette soirée sera un lieu où l’absurde\, le poétique et la fête se mélangent\, un reencuentro insolite où la scène devient terrain de surprises\, d’émotions et de danse. \n🎭 Théâtre & Cirque\n🎶 Musique live\n🕺 DJ Set Surprise jusqu’à 1h \n📍 Lieu : Brasserie Illegaal – Rue Bollinckx 300\, 1190 Forest\, Belgique\n📅 Date : 10 avril 2026\n⏰ Ouverture des portes : 19h30 | Début du spectacle : 20h30 \n💰 Entrée : 12€ prévente | 15€ sur place\n📞 Réservation : +32 465 98 79 41\n+33 6 02 36 21 01 \n____________________________________\n\n/!\ ILLEGAAL est un lieu de réjouissances\, de partage et de rencontre ouvert à tous·tes. Aucun comportement oppressant\, violent ou discriminant n’y est toléré. La Love Team\, formée par Plan Sacha & Quality Nights\, est là pour toi en cas de besoin. Plus d’infos sur notre charte ici.   \nLieu labellisé par Quality Nights
URL:https://brasserie-illegaal.com/event/ou-est-la-sainte-dramaturgie-spectacle-cirque-theatre/
LOCATION:Bollinx\, Rue Bollinckx\, 300\, Forest - Brussel\, 1090\, Belgium
CATEGORIES:Partners
ATTACH;FMTTYPE=image/jpeg:https://brasserie-illegaal.com/wp-content/uploads/2026/03/WhatsApp-Image-2026-03-15-at-17.54.18.jpeg
END:VEVENT
BEGIN:VEVENT
DTSTART;TZID=Europe/Brussels:20260417T190000
DTEND;TZID=Europe/Brussels:20260418T050000
DTSTAMP:20260423T194940
CREATED:20260319T132500Z
LAST-MODIFIED:20260401T100946Z
UID:12162-1776452400-1776488400@brasserie-illegaal.com
SUMMARY:Première Nuit - Marathon Théâtrale by PLATO
DESCRIPTION:PREMIÈRE NUIT\nFESTIVAL MARATHON THÉÂTRALE BY PLATO \n📍@illegaalbelgium \nRue Bollinckx 300\, 1190 Forest\n🗓️ 17 Avril 2026 de 19h à 5h\n💸 Prix libre à partir de 12€ \n/!\ PRÉVENTES DISPONIBLES ICI /!\  \nUne première et une dernière nuit de théâtre. Si le monde venait à s’écrouler\, si les institutions venaient à mettre la clé sous la porte\, où la culture irait-elle se réfugier ? Dans les salons privés ? Dans les caves ? Dans les hangars ? Nous on aime bien les hangars. Le temps d’une nuit\, nous vous proposons de vivre cette expérience à nos côtés\, de remettre le théâtre au centre du plateau\, un plateau de palettes\, sous un ciel étoilé\, une bière à la main. \nPROJETS\nNIQUE MA VIE DE POISSON – @clemouce.dp\nMA CHAMBRE EST TOUJOURS OUVERTE – @alexis.fuze\nA LA LIGNE – @a_la_ligne_projet\nDUNKIN – @augustin_de_winter\nPOUCET – @victor.pestanes\n1000G – @comtedecundo\nARTHUR DE CLERMONT – @arthurdeclermont\nTOUT JETER/GARDER FLORE – @alison_rabillon @unlessyouhavebrownies\nCAUCHEMAR AMERICAIN – @romero_cyril\nLES INDES FOURBES – @fredelzius\nJIJI STARLUST – @jiji_starlust\nWINNIE JOHN – @coursmargauxcours\nLA NICHE – @rubens_pas_ruben \n____________________________________\n\n/!\ ILLEGAAL est un lieu de réjouissances\, de partage et de rencontre ouvert à tous·tes. Aucun comportement oppressant\, violent ou discriminant n’y est toléré. La Love Team\, formée par Plan Sacha & Quality Nights\, est là pour toi en cas de besoin. Plus d’infos sur notre charte ici.   \nLieu labellisé par Quality Nights
URL:https://brasserie-illegaal.com/event/premiere-nuit-derniere-nuit-marathon-theatrale-by-plato/
LOCATION:Bollinx\, Rue Bollinckx\, 300\, Forest - Brussel\, 1090\, Belgium
CATEGORIES:Partners
ATTACH;FMTTYPE=image/png:https://brasserie-illegaal.com/wp-content/uploads/2026/03/Capture-decran-2026-04-01-120305-1.png
ORGANIZER;CN="Plato":MAILTO:plato.asbl@gmail.com
END:VEVENT
BEGIN:VEVENT
DTSTART;TZID=Europe/Brussels:20260418T190000
DTEND;TZID=Europe/Brussels:20260419T050000
DTSTAMP:20260423T194940
CREATED:20260401T100235Z
LAST-MODIFIED:20260401T100821Z
UID:12179-1776538800-1776574800@brasserie-illegaal.com
SUMMARY:Dernière Nuit – Marathon Théâtrale by PLATO
DESCRIPTION:DERNIÈRE NUIT\nFESTIVAL MARATHON THÉÂTRALE BY PLATO \n@illegaalbelgium \nRue Bollinckx 300\, 1190 Forest\n 17 Avril 2026 de 19h à 5h\n Prix libre à partir de 12€ \n/!\ PRÉVENTES DISPONIBLES ICI /!\ \nUne première et une dernière nuit de théâtre. Si le monde venait à s’écrouler\, si les institutions venaient à mettre la clé sous la porte\, où la culture irait-elle se réfugier ? Dans les salons privés ? Dans les caves ? Dans les hangars ? Nous on aime bien les hangars. Le temps d’une nuit\, nous vous proposons de vivre cette expérience à nos côtés\, de remettre le théâtre au centre du plateau\, un plateau de palettes\, sous un ciel étoilé\, une bière à la main. \nPROJETS\nNIQUE MA VIE DE POISSON – @clemouce.dp\nMA CHAMBRE EST TOUJOURS OUVERTE – @alexis.fuze\nA LA LIGNE – @a_la_ligne_projet\nDUNKIN – @augustin_de_winter\nPOUCET – @victor.pestanes\n1000G – @comtedecundo\nARTHUR DE CLERMONT – @arthurdeclermont\nTOUT JETER/GARDER FLORE – @alison_rabillon @unlessyouhavebrownies\nCAUCHEMAR AMERICAIN – @romero_cyril\nLES INDES FOURBES – @fredelzius\nJIJI STARLUST – @jiji_starlust\nWINNIE JOHN – @coursmargauxcours\nLA NICHE – @rubens_pas_ruben \n____________________________________\n\n/!\ ILLEGAAL est un lieu de réjouissances\, de partage et de rencontre ouvert à tous·tes. Aucun comportement oppressant\, violent ou discriminant n’y est toléré. La Love Team\, formée par Plan Sacha & Quality Nights\, est là pour toi en cas de besoin. Plus d’infos sur notre charte ici.   \nLieu labellisé par Quality Nights
URL:https://brasserie-illegaal.com/event/derniere-nuit-marathon-theatrale-by-plato/
LOCATION:Bollinx\, Rue Bollinckx\, 300\, Forest - Brussel\, 1090\, Belgium
CATEGORIES:Partners
ATTACH;FMTTYPE=image/png:https://brasserie-illegaal.com/wp-content/uploads/2026/04/Capture-decran-2026-04-01-121139.png
ORGANIZER;CN="Plato":MAILTO:plato.asbl@gmail.com
END:VEVENT
BEGIN:VEVENT
DTSTART;TZID=Europe/Brussels:20260425T190000
DTEND;TZID=Europe/Brussels:20260426T050000
DTSTAMP:20260423T194940
CREATED:20260409T105910Z
LAST-MODIFIED:20260415T094636Z
UID:12202-1777143600-1777179600@brasserie-illegaal.com
SUMMARY:ILLEGAAL BDAY BOLLINX #4
DESCRIPTION:ILLEGAAL BDAY BOLLINX #4 – 25/0419:00-05:00\n\nTime flieeees !Quatre ans qu’on a ouvert nos portes et que vous en faites vibrer les murs Pour passer ce cap ensemble\, on vous a concocté un line-up de feu dont on se souviendra loooongtemps ! On ouvre les portes à 19:00 et dès l’ouverture\, on vous promet de la joie\, du bon manger\, une visite de la brasserie\, du tattoo\, des concerts\, des performances et moult surpriiises !\nComme d’habitude\, sortez vos plus beaux apparats\,Plumes\, paillettes\, perruques et boasL’audace aura des shots gratuits !Alors\, vous venez souffler les bougies ? \n_________________________________________\n_LIVE@arra_di_allas @yogateachersk @angrybodies @floemee_ @fanfare_godfingers\n_DJ’s@_habibitch @nazaninyalda @henry.baboy @marine_penhouet (wishes) @marumarukay @leyatouch\n_EXTRASTATTOO VILLAGE w/ @theblairbicheproject & @iconoclast.ttt CABINET DE TRANSFORMATION w/ @valtramasureEXPO COLLECTIVE w/ @camik_jln @jozehefff @ilaquarii @mich_545 @romanekaaaSÉRIGRAPHIE w/ @printactif ROLLER w/ @powsey_style\n__FOOD & DRINKS@brasserieduborinage & @ba.r.a.k.i@veggiecafeee\n__SCENO & LIGHTS@tarkinou@ott_noam_lhaririGael Devil_________________________________________\nP.A.F. 12€ – 15€ – 18€ en fonction des moyens de chacun·e25.04.2026 I 19:00 – 05:00300 Rue Bollinckx – 1190 Forest_________________________________________\nHAPPY HOUR & VISITE DE LA BRASSERIE de 19:00 à 20:00Merci à Gael Devil pour l’affiche _________________________________________\nTRAIN Gare de FOREST MIDI BUS 73 Arrêt INTERNATIONALBUS 78 Arrêt BOLLINCKXTRAM 82 Arrêt MAX WALLERTRAM 97 Arrêt MAX WALLERVELO Parking pour garer ton deux-rouesCOLLECTO Arrêt ILLEGAAL entre 22 :00 et 05 :00\n\n_______________________________________\n\n/!\ ILLEGAAL est un lieu de réjouissances\, de partage et de rencontre ouvert à tous·tes. Aucun comportement oppressant\, violent ou discriminant n’y est toléré. La Love Team\, formée par Plan Sacha & Quality Nights\, est là pour toi en cas de besoin. Plus d’infos sur notre charte ici.   \nLieu labellisé par Quality Nights
URL:https://brasserie-illegaal.com/event/illegaal-bday-bollinx-4/
LOCATION:Bollinx\, Rue Bollinckx\, 300\, Forest - Brussel\, 1090\, Belgium
CATEGORIES:iLLeGaaL Events
ATTACH;FMTTYPE=image/png:https://brasserie-illegaal.com/wp-content/uploads/2026/04/Capture-decran-2026-04-09-a-12.56.28.png
ORGANIZER;CN="ILLEGAAL":MAILTO:art@brasserie-illegaal.com
END:VEVENT
BEGIN:VEVENT
DTSTART;TZID=Europe/Brussels:20260501T200000
DTEND;TZID=Europe/Brussels:20260502T050000
DTSTAMP:20260423T194940
CREATED:20260324T132946Z
LAST-MODIFIED:20260324T132946Z
UID:12168-1777665600-1777698000@brasserie-illegaal.com
SUMMARY:POTE COMPOTE
DESCRIPTION:POTE COMPOTE — 1st of May Special Edition\nPote Compote is back to celebrate Workers’ Day in a powerful\, sparkling\, and unapologetically feminine way!\nAs a multidisciplinary women’s collective\, we are beyond excited to gather such a vibrant mix of artists\, workers\, and minds.That’s the magic of Pote Compote: a space where performance meets party\, where energies blend\, and where expression is limitless.\nExpect a night of:– Live performances & DJ sets melting into one experience– A queer & LGBTQ+ welcoming environment– A safe\, open space to express and enjoy yourself freely\n_______________________________________\n Where: Brasserie Illegaal Doors Open: 20:00 // End: 05:00 Entrée : 12€ prévente | 15€ sur place\nTICKETS HERE_______________________________________\nPerformances by:Los SergioCoconauta & RusalkaShuu\nMORE SURPRISES:Special guests: Templa Clika (Chile)A powerful journey through transformation of the female body — blending contemporary dance\, twerk\, and reggaeton\, moving from the divine and spiritual to the deeply earthly.\n_______________________________________\n DJ sets (22:30 — 05:00):Neretva // Electro-brazilian & Techno waves.Coconauta // Ambient\, Deep Techno & AcidViudark // Dj Hardpsy/HardtechnoToxiblue // Hardpsy & Acid Tekno.\n\nSCENOGRAPHY & TATTOO SPOT: By Malikna aka Ignacia Parraguez_______________________________________\n// Come celebrate\, dance\, connect\, and be part of a collective energy that uplifts\, empowers\, and inspires.\nPote Compote is not just a party — it’s a movement\, come and support \n_______________________________________\n\n/!\ ILLEGAAL est un lieu de réjouissances\, de partage et de rencontre ouvert à tous·tes. Aucun comportement oppressant\, violent ou discriminant n’y est toléré. La Love Team\, formée par Plan Sacha & Quality Nights\, est là pour toi en cas de besoin. Plus d’infos sur notre charte ici.   \nLieu labellisé par Quality Nights
URL:https://brasserie-illegaal.com/event/pote-compote/
LOCATION:Bollinx\, Rue Bollinckx\, 300\, Forest - Brussel\, 1090\, Belgium
CATEGORIES:Partners
ATTACH;FMTTYPE=image/jpeg:https://brasserie-illegaal.com/wp-content/uploads/2026/03/WhatsApp-Image-2026-03-24-at-14.26.17.jpeg
END:VEVENT
BEGIN:VEVENT
DTSTART;TZID=Europe/Brussels:20260502T200000
DTEND;TZID=Europe/Brussels:20260503T050000
DTSTAMP:20260423T194940
CREATED:20260415T094153Z
LAST-MODIFIED:20260415T094748Z
UID:12208-1777752000-1777784400@brasserie-illegaal.com
SUMMARY:GOULASH DISKO w/ La Dame\, Dunwich & Azaz
DESCRIPTION:Goulash Disko BXL is back for a delightful spring edition\, right after International Worker’s day\, to cap off an intense weekend of political struggle with a radical dance! Because we believe that a party is a political statement\, and that emancipation through music\, partying and togetherness is a powerful act of liberation !\nAs always we bring you the best multi-culti psychedelic dance music to sweat to\, outstanding guest artists\, beautiful scenography & more to provide you with a mind-bending experience !\nAfter our last edition that focused on local\, emerging artists\, this time we have three amazing headliners\, a mix of local and international underground legends\, three savvy and eclectic musical minds for an unforgettable night !\nAnd we couldn’t dream of a better location to host our trance-inducing rituals\, our trusted and beloved Brasserie Illegaal\, home of the best underground parties in Brussels !\n\n——————————⊙ ☼ LINE UP ☼ ⊙\n۞ DUNWICH aka Xique-Xique (//)۞ LA DAME ( / / / )۞ AZAZ ( / / )۞ DJ SOLEIL ( / )۞ RAFAEL ARAGON ( / )\n⊙⊙ S Ott Noam lhariri\n——————————\n⊙ ☼ INFOS ☼ ⊙\n۞ Saturday 2nd of May 2026۞ 20h00-05H00۞ PAF 15€ (10€ before 22h) >> CASH ONLY۞ (Bar = cash & card)۞ After Party in secret location from 5h30 till late !!!\nPour garantir notre/votre Safe Space\,Festoyez de manière responsablePas de sexisme / racisme / phobiaNO = NO / OUT = OUT\n——————————\nBrasserie ILLEGAALrue Bollinckx\, 300.1190\, Forest.\n Parking vélo pour garer ton deux roues Gare de Forest-Midi à 2min à pied ! Bus 73 – Arrêt INTERNATIONAL Bus 78 – Arrêt BOLLINCKX Tram 82 & 97 – Arrêt MAX WALLER\n\n_______________________________________\n\n/!\ ILLEGAAL est un lieu de réjouissances\, de partage et de rencontre ouvert à tous·tes. Aucun comportement oppressant\, violent ou discriminant n’y est toléré. La Love Team\, formée par Plan Sacha & Quality Nights\, est là pour toi en cas de besoin. Plus d’infos sur notre charte ici.   \nLieu labellisé par Quality Nights
URL:https://brasserie-illegaal.com/event/goulash-disko-w-la-dame-dunwich-azaz/
LOCATION:Bollinx\, Rue Bollinckx\, 300\, Forest - Brussel\, 1090\, Belgium
CATEGORIES:Partners
ATTACH;FMTTYPE=image/png:https://brasserie-illegaal.com/wp-content/uploads/2026/04/GoulashMAI_IG2.png
END:VEVENT
BEGIN:VEVENT
DTSTART;TZID=Europe/Brussels:20260509T200000
DTEND;TZID=Europe/Brussels:20260510T050000
DTSTAMP:20260423T194940
CREATED:20260418T110149Z
LAST-MODIFIED:20260418T110149Z
UID:12238-1778356800-1778389200@brasserie-illegaal.com
SUMMARY:Here We Are by Where Is Henry - 4 Years Anniversary
DESCRIPTION:Hey dear ravers   \n  \nHere We Are : Your Newsletter Where is Henry is celebrating its 4 years anniversary. 4 years of sharing\, fun and laugh. What’s best then to celebrate than throwing a party with a bunch of local artists ! On our journey to this amazing night\, we’ll pass by the playful Synth of Cissy\, the deep emotional words of Nadine Baboy\, the groove of She The DJ\, the flow of the quintet Wet Enough!?\, the electric energy of Bo Meng and the positive vibes of Chel and &RY…be prepared for a night that you’ll surely won’t forget! \nSo… see you there…the 9th of may ?——————————————LINE UPWet Enough!?CissyBo MengShe The DJChel&RY \nPerformance by Nadine Baboy \nWHEN09.05.202620h – 5h \nPLACEIllegaaL \nPRICEPresale : 9eu /12eu – Tickets HEREDoors : 15eu (cash only !!!). Limited capacity\, come early! \nPlease note: the price should not be a barrier to your participation. If this is the case\, please contact us and we will work together to find a solution. \nArtwork by Nora Juncker——————————————This event is possible thanks to a team of friends and volunteers dedicated to helping you enjoy your evening. A care team will be there to make sure that everyone feels safe and respected\, especially those who are more often subjected to aggression and discrimination on a daily basis because of their gender\, sexual orientation\, origins\, age… no behavior that might affect the safety and respect of everyone will be tolerated. If you observe or are the victim of such behavior\, do not hesitate to contact a member of the careteam or our team. We reserve the right to exclude those concerned. \nPlease respect and take care of your fellow ravers.—————————————— \nÀ propos de Where Is Henry https://linktr.ee/hereishenry——————————————BRASSERIE ILLEGAAL300 Rue Bollinckx – 1190 ForestParking vélo pour garer ton deux rouesGare de Forest midi à 4min à piedBus 73 (Gare du Midi-Ceria) – Arrêt INTERNATIONALBus 78 (Gare du Midi-Humanité) – Arrêt BOLLINCKXTram 82 (Gare de Berchem-Drogenbos) – Arrêt MAX WALLETram 97 (Louise-Dieweg) – Arrêt MAX WALLER \n_______________________________________\n\n/!\ ILLEGAAL est un lieu de réjouissances\, de partage et de rencontre ouvert à tous·tes. Aucun comportement oppressant\, violent ou discriminant n’y est toléré. La Love Team\, formée par Plan Sacha & Quality Nights\, est là pour toi en cas de besoin. Plus d’infos sur notre charte ici.   \nLieu labellisé par Quality Nights
URL:https://brasserie-illegaal.com/event/here-we-are-by-where-is-henry-4-years-anniversary/
LOCATION:Bollinx\, Rue Bollinckx\, 300\, Forest - Brussel\, 1090\, Belgium
CATEGORIES:Partners
ATTACH;FMTTYPE=image/jpeg:https://brasserie-illegaal.com/wp-content/uploads/2026/04/WhatsApp-Image-2026-04-18-at-12.43.41.jpeg
END:VEVENT
BEGIN:VEVENT
DTSTART;TZID=Europe/Brussels:20260517T110000
DTEND;TZID=Europe/Brussels:20260517T220000
DTSTAMP:20260423T194940
CREATED:20260416T102316Z
LAST-MODIFIED:20260416T102316Z
UID:12228-1779015600-1779055200@brasserie-illegaal.com
SUMMARY:Petank in den Park
DESCRIPTION:Ladies and Gentlemen à vos boules 🎳🎳🎳\nPetank in da Park 2026 est de retour plus chaud que jamais.\nDimanche 17 mai à 11h00\, on vous attend sur le terrain\, pastis en main \nInscris donc ta triplette et on t’enverra le reste.\nRenvoie nous ton nom d’équipe\, + les 2 personnes qui joueront avec toi sur petanqueabbaye@gmail.com \nDate : Dimanche 17 mai 11h\nLieu : Jardin de la cité administrative (1000 Bruxelles)\nQuoi : Marcel\, boules\, pastis\nCombien : 5 euros par équipe \nVa t’entrainer\, va tirer\, on s’occupe du reste\nPetank in da Park with love & happiness\,
URL:https://brasserie-illegaal.com/event/petank-in-den-park/
LOCATION:Jardin de la cité administrative\, Jardin de la cité administrative\, Bruxelles\, 1000\, Belgium
CATEGORIES:iLLeGaaL Events
ATTACH;FMTTYPE=image/png:https://brasserie-illegaal.com/wp-content/uploads/2026/04/Capture-decran-2026-04-16-a-12.13.26.png
ORGANIZER;CN="ILLEGAAL":MAILTO:art@brasserie-illegaal.com
END:VEVENT
BEGIN:VEVENT
DTSTART;TZID=Europe/Brussels:20260628T150000
DTEND;TZID=Europe/Brussels:20260628T200000
DTSTAMP:20260423T194940
CREATED:20260415T104854Z
LAST-MODIFIED:20260415T104854Z
UID:12218-1782658800-1782676800@brasserie-illegaal.com
SUMMARY:Le Trésor de Sumatra (Magic Land Theatre)
DESCRIPTION:Le Magic Land Théâtre et la Brasserie Illegaal vous accueillent pour un après midi d’évasion théâtrale. Découvrez le Trésor de Sumatra dans un cadre insolite.\nUn chercheur quelque peu illuminé\, accompagné de sa jeune épouse embarquent à bord de l’indomptable Espadon\, un rafiot conduit par le capitaine Blanchard. Bravant tous les dangers\, l’embarcation fait route vers Sumatra à la recherche d’un trésor perdu mais la route est longue et les dangers attendent nos amis à chaque escale. Dans la plus pure tradition du Magic Land\, cette nouvelle création participative nous plonge en plein 19ème siècle dans l’univers de Jules Verne et des grands voyageurs alors rien d’étonnant si à chaque escale le public se transforme en jungle inextricable ou en rassemblement de bêtes sauvages.\n« L’important c’est la quête » comme disait le Cardinal Martens.\nInterprété par: Amélie Segers\, Elsa Erroyaux\, Juan Marquez Garcia et Michael Manconi.\n_______________________________________\nRéservations fortement recommandées: https://shop.utick.net/?pos=MAGICLAND&module=CATALOGUE\n\n_______________________________________\n\n/!\ ILLEGAAL est un lieu de réjouissances\, de partage et de rencontre ouvert à tous·tes. Aucun comportement oppressant\, violent ou discriminant n’y est toléré. La Love Team\, formée par Plan Sacha & Quality Nights\, est là pour toi en cas de besoin. Plus d’infos sur notre charte ici.   \nLieu labellisé par Quality Nights
URL:https://brasserie-illegaal.com/event/le-tresor-de-sumatra-magic-land-theatre/
LOCATION:Bollinx\, Rue Bollinckx\, 300\, Forest - Brussel\, 1090\, Belgium
CATEGORIES:Partners
ATTACH;FMTTYPE=image/jpeg:https://brasserie-illegaal.com/wp-content/uploads/2026/04/668584094_1537883378339199_3456360853276885005_n.jpg
ORGANIZER;CN="MAGIC LAND THEATRE TOUR":MAILTO:info@magicland-theatre.com
END:VEVENT
END:VCALENDAR